BEGIN:VCALENDAR
VERSION:2.0
PRODID:-//St Johns Anglican Whitby - ECPv6.15.20//NONSGML v1.0//EN
CALSCALE:GREGORIAN
METHOD:PUBLISH
X-ORIGINAL-URL:https://stjohnswhitby.ca
X-WR-CALDESC:Events for St Johns Anglican Whitby
REFRESH-INTERVAL;VALUE=DURATION:PT1H
X-Robots-Tag:noindex
X-PUBLISHED-TTL:PT1H
BEGIN:VTIMEZONE
TZID:America/Toronto
BEGIN:DAYLIGHT
TZOFFSETFROM:-0500
TZOFFSETTO:-0400
TZNAME:EDT
DTSTART:20240310T070000
END:DAYLIGHT
BEGIN:STANDARD
TZOFFSETFROM:-0400
TZOFFSETTO:-0500
TZNAME:EST
DTSTART:20241103T060000
END:STANDARD
BEGIN:DAYLIGHT
TZOFFSETFROM:-0500
TZOFFSETTO:-0400
TZNAME:EDT
DTSTART:20250309T070000
END:DAYLIGHT
BEGIN:STANDARD
TZOFFSETFROM:-0400
TZOFFSETTO:-0500
TZNAME:EST
DTSTART:20251102T060000
END:STANDARD
BEGIN:DAYLIGHT
TZOFFSETFROM:-0500
TZOFFSETTO:-0400
TZNAME:EDT
DTSTART:20260308T070000
END:DAYLIGHT
BEGIN:STANDARD
TZOFFSETFROM:-0400
TZOFFSETTO:-0500
TZNAME:EST
DTSTART:20261101T060000
END:STANDARD
END:VTIMEZONE
BEGIN:VEVENT
DTSTART;TZID=America/Toronto:20251123T100000
DTEND;TZID=America/Toronto:20251123T113000
DTSTAMP:20260425T070309
CREATED:20251104T043521Z
LAST-MODIFIED:20251125T153407Z
UID:2152-1763892000-1763897400@stjohnswhitby.ca
SUMMARY:Reign of Christ Sunday - Hanging of the Greens
DESCRIPTION:What is the Hanging of the Greens service?\nThe Hanging of the Greens is an important service that occurs on Reign of Christ Sunday\, marking the beginning of the Advent season.\nThis special service is not just about decorating; it also fosters a sense of community within the church. Attendees engage in joyful preparation\, uniting their efforts to create a spiritually enriching environment. Through the Hanging of the Greens and the celebration of the Holy Eucharist\, participants prepare their hearts for the joyous occasion of Christmas\, deeply connecting the decorations to the faith that binds the congregation. \nCelebrating Community and Faith\nDuring the Hanging of the Greens service\, we will gather to decorate our church with meaningful symbols. Wreaths\, made of evergreen branches\, represent the everlasting love of God. They embody the cycle of life and renewal\, reminding us of the eternal glories awaiting us. Similarly\, garlands crafted from fir and pine further enhance the church’s ambiance\, reflecting the presence of God dwelling among His people.
URL:https://stjohnswhitby.ca/event/reign-of-christ-sunday/
LOCATION:St John’s Anglican Church\, 150 Victoria Street East\, Whitby\, Ontario\, L1N 9L8\, Canada
ORGANIZER;CN="Rev. Nicole Critch":MAILTO:stjohnsanglicanwhitby@gmail.com
END:VEVENT
END:VCALENDAR