BEGIN:VCALENDAR
VERSION:2.0
PRODID:-//St Johns Anglican Whitby - ECPv6.15.20//NONSGML v1.0//EN
CALSCALE:GREGORIAN
METHOD:PUBLISH
X-WR-CALNAME:St Johns Anglican Whitby
X-ORIGINAL-URL:https://stjohnswhitby.ca
X-WR-CALDESC:Events for St Johns Anglican Whitby
REFRESH-INTERVAL;VALUE=DURATION:PT1H
X-Robots-Tag:noindex
X-PUBLISHED-TTL:PT1H
BEGIN:VTIMEZONE
TZID:America/Toronto
BEGIN:DAYLIGHT
TZOFFSETFROM:-0500
TZOFFSETTO:-0400
TZNAME:EDT
DTSTART:20230312T070000
END:DAYLIGHT
BEGIN:STANDARD
TZOFFSETFROM:-0400
TZOFFSETTO:-0500
TZNAME:EST
DTSTART:20231105T060000
END:STANDARD
BEGIN:DAYLIGHT
TZOFFSETFROM:-0500
TZOFFSETTO:-0400
TZNAME:EDT
DTSTART:20240310T070000
END:DAYLIGHT
BEGIN:STANDARD
TZOFFSETFROM:-0400
TZOFFSETTO:-0500
TZNAME:EST
DTSTART:20241103T060000
END:STANDARD
BEGIN:DAYLIGHT
TZOFFSETFROM:-0500
TZOFFSETTO:-0400
TZNAME:EDT
DTSTART:20250309T070000
END:DAYLIGHT
BEGIN:STANDARD
TZOFFSETFROM:-0400
TZOFFSETTO:-0500
TZNAME:EST
DTSTART:20251102T060000
END:STANDARD
BEGIN:DAYLIGHT
TZOFFSETFROM:-0500
TZOFFSETTO:-0400
TZNAME:EDT
DTSTART:20260308T070000
END:DAYLIGHT
BEGIN:STANDARD
TZOFFSETFROM:-0400
TZOFFSETTO:-0500
TZNAME:EST
DTSTART:20261101T060000
END:STANDARD
END:VTIMEZONE
BEGIN:VEVENT
DTSTART;TZID=America/Toronto:20251108T100000
DTEND;TZID=America/Toronto:20251108T140000
DTSTAMP:20260425T103400
CREATED:20251006T162336Z
LAST-MODIFIED:20251123T123426Z
UID:2012-1762596000-1762610400@stjohnswhitby.ca
SUMMARY:Church Bazaar and Tea Room
DESCRIPTION:Church Bazaar\n\nJoin us for our Annual Bazaar where you’ll find delightful crafts\, scrumptious baked goods\, refreshments in our tea room\, and all the usual favorites. Come by between 10:00 a.m. and 2:00 p.m.\n			\n			\n				\n				\n				\n				\n			\n				\n				\n			\n				\n				\n				\n				\n				\n				\n				\n				\n				\n				\n				\n				\n				\n				\n				\n				\n				\n				Highlights of our 2025 Bazaar\n			\n				\n				\n				\n				\n				It was four hours of seasonal magic as the St. John’s community gathered to host our annual seasonal bazaar om Nov. 8. Long considered (humbly) the best lunch deal in town\, it drew friends old and new for a delightful time of fellowship – not to mention a tremendous table of bake good and crafts supplied by our Monday morning craft group (10 am Mondays if you are interested in joining.)
URL:https://stjohnswhitby.ca/event/church-bazaar-and-tea-room/
LOCATION:St John’s Anglican Church\, 150 Victoria Street East\, Whitby\, Ontario\, L1N 9L8\, Canada
END:VEVENT
BEGIN:VEVENT
DTSTART;TZID=America/Toronto:20251101T110000
DTEND;TZID=America/Toronto:20251101T150000
DTSTAMP:20260425T103400
CREATED:20250815T193122Z
LAST-MODIFIED:20251125T160327Z
UID:1892-1761994800-1762009200@stjohnswhitby.ca
SUMMARY:All Saints' Day - Wreath Making Workshop and Cemetery Decoration Day
DESCRIPTION:The Meaning of All Saints’ Day\nThis is a special occasion that honours the legacy of those who have passed. This day is dedicated to commemorating the lives of saints and all faithful departed. This day reinforces core Christian beliefs in eternal life and the ultimate hope of resurrection. By reflecting on the lives of saints and the faithful departed\, Christians are reminded of the eternal destiny that awaits them in the presence of God. This hope inspires not only personal piety but also a communal aspiration toward holiness and virtue. Celebrating All Saints’ Day encourages believers to live more devotedly\, fostering a deeper connection with their faith and each other.  All Saints’ Day serves as a powerful reminder of the rich heritage of the Church and the profound belief in an eternal celebration of life beyond death. \nJoin us for a Creative Workshop\nAs we celebrate this historic meaning of All Saints’ Day\, we invite you to partake in our all-natural wreath-making workshop. This event is not only an opportunity for creativity but also a chance to connect with others in a warm and friendly environment. Together\, we will craft beautiful\, natural wreaths to decorate the resting places of our beloved ones. We will be providing fresh greenery\, jute or cotton twine\, pine cones\, dried fruit\, and so on. Participants are welcome to bring their own favorite natural\, biodegradable additions to include in their wreath eg: ribbons made of cotton\, burlap\, or craft paper; cranberry or popcorn garlands; fresh or dried\, real flowers or ornamental grass; colorful twigs such as purple osier willow\, or red dogwood\, nuts; acorns; seed pods… \nPractical Details for Participants\nBring the kids along\nWe warmly invite families to join us for this day of creativity and remembrance. Children are encouraged to participate in the wreath-making workshop\, provided they are accompanied by an adult. This is a wonderful opportunity for families to bond\, create lasting memories together\, and remember their departed loved ones. \nYour generous donation of $20 per wreath helps us provide the necessary materials for this community event. Contributions ensure that all wreaths are made from sustainable resources\, supporting both the environment and the ongoing preservation of our cemetery. Thank you for your support in keeping this tradition alive. \nTo secure your spot in the workshop\, please fill out the registration form. For any questions or further information\, feel free to reach out to us at cemetery@stjohnswhitby.ca. We look forward to hearing from you and welcoming you to this special event. \nTo anchor the beauty of your creation to a burial lot\, please remember that all wreaths must be displayed on wire easels. We have a limited number of easels available for the first to register. However\, don’t worry if you miss out! You can purchase an easel from popular craft suppliers like Michaels or Canadian Tire. \nHere are some convenient links for purchasing:\nMichaels – Metal Easel by Ashland\nCanadian Tire – For Living Tri-Pod Wreath Easel \nOur commitment to the environment is reflected in our choice of materials. All items used in the wreath-making workshop are biodegradable\, ensuring that our activities leave no harmful impact on nature. By choosing biodegradable materials\, we honor the natural beauty of our surroundings and contribute to a greener future. Each wreath crafted will be a testament to our dedication to preserving the environment. \n*Cemetery Bylaw update – Starting November 1st\, 2025\, St. John’s Anglican Cemetery will no longer permit artificial flowers or non-biodegradable ribbons or decorations\, as we are committed to managing the grounds sustainably.
URL:https://stjohnswhitby.ca/event/all-saints-day-cemetery-beautification/
LOCATION:St John’s Anglican Cemetery\, 150 Victoria Street East\, Whitby\, Ontario\, L1N 9L8\, Canada
CATEGORIES:Community Event,Fundraiser,Social Event
ORGANIZER;CN="St John's Anglican Cemetery":MAILTO:cemetery@stjohnswhitby.ca
END:VEVENT
BEGIN:VEVENT
DTSTART;TZID=America/Toronto:20251011T110000
DTEND;TZID=America/Toronto:20251011T120000
DTSTAMP:20260425T103400
CREATED:20251003T181048Z
LAST-MODIFIED:20251003T185144Z
UID:1871-1760180400-1760184000@stjohnswhitby.ca
SUMMARY:Blessing of the Animals
DESCRIPTION:Join us for a heartwarming community event!\nAll pets and their loving owners are warmly invited to our special blessing service at St. John’s Anglican church.\nBring your furry\, feathered\, or scaly friends for a memorable day of joy and gratitude.\nWe look forward to celebrating the bond between you and your pets!
URL:https://stjohnswhitby.ca/event/blessing-of-the-animals/
LOCATION:St John’s Anglican Church\, 150 Victoria Street East\, Whitby\, Ontario\, L1N 9L8\, Canada
CATEGORIES:Community Event,Social Event
ORGANIZER;CN="Rev. Nicole Critch":MAILTO:stjohnsanglicanwhitby@gmail.com
END:VEVENT
BEGIN:VEVENT
DTSTART;TZID=America/Toronto:20250305T100000
DTEND;TZID=America/Toronto:20250305T110000
DTSTAMP:20260425T103400
CREATED:20250303T152645Z
LAST-MODIFIED:20250303T153547Z
UID:1665-1741168800-1741172400@stjohnswhitby.ca
SUMMARY:Ash Wednesday Service
DESCRIPTION:Rev. Melvin will be officiating.
URL:https://stjohnswhitby.ca/event/ash-wednesday-service/
CATEGORIES:Special Service
ATTACH;FMTTYPE=image/jpeg:https://stjohnswhitby.ca/wp-content/uploads/2023/02/ash-wednesday-cross-1.jpg
END:VEVENT
BEGIN:VEVENT
DTSTART;TZID=America/Toronto:20250304T163000
DTEND;TZID=America/Toronto:20250304T183000
DTSTAMP:20260425T103400
CREATED:20250226T154605Z
LAST-MODIFIED:20250303T153344Z
UID:1605-1741105800-1741113000@stjohnswhitby.ca
SUMMARY:Pancake Supper  - Shrove Tuesday
DESCRIPTION:Menu:  Pancakes\, sausages\, berries\, hash browns\, baked beans\, and of course syrup! \nWe will have some take-out containers this year as an option for those who do not want to sit in. \nLocation: Fellowship Hall (the church’s lower level)\nCost: Goodwill offering
URL:https://stjohnswhitby.ca/event/pancake-supper-shove-tuesday/
LOCATION:St John’s Anglican Church\, 150 Victoria Street East\, Whitby\, Ontario\, L1N 9L8\, Canada
CATEGORIES:Community Event,Fundraiser
ATTACH;FMTTYPE=image/png:https://stjohnswhitby.ca/wp-content/uploads/2025/02/Pancake-Tuesday.png
END:VEVENT
BEGIN:VEVENT
DTSTART;TZID=America/Toronto:20241225T100000
DTEND;TZID=America/Toronto:20241225T120000
DTSTAMP:20260425T103400
CREATED:20241130T195847Z
LAST-MODIFIED:20241130T195847Z
UID:1534-1735120800-1735128000@stjohnswhitby.ca
SUMMARY:Christmas Day Service
DESCRIPTION:Christmas Day service\, Wednesday\, December 25 @ 10:00 a.m.
URL:https://stjohnswhitby.ca/event/christmas-day-service/
LOCATION:St John’s Anglican Church\, 150 Victoria Street East\, Whitby\, Ontario\, L1N 9L8\, Canada
CATEGORIES:Christmas,Special Service
END:VEVENT
BEGIN:VEVENT
DTSTART;TZID=America/Toronto:20241224T160000
DTEND;TZID=America/Toronto:20241224T173000
DTSTAMP:20260425T103400
CREATED:20241130T195244Z
LAST-MODIFIED:20241130T195530Z
UID:1532-1735056000-1735061400@stjohnswhitby.ca
SUMMARY:Lessons & Carols
DESCRIPTION:Lessons & Carols\, Tuesday\, December 24 @ 4:00 p.m.
URL:https://stjohnswhitby.ca/event/lessons-carols/
LOCATION:St John’s Anglican Church\, 150 Victoria Street East\, Whitby\, Ontario\, L1N 9L8\, Canada
CATEGORIES:Christmas,Special Service
END:VEVENT
BEGIN:VEVENT
DTSTART;TZID=America/Toronto:20241221T160000
DTEND;TZID=America/Toronto:20241221T173000
DTSTAMP:20260425T103400
CREATED:20241130T194746Z
LAST-MODIFIED:20241130T195339Z
UID:1530-1734796800-1734802200@stjohnswhitby.ca
SUMMARY:Candlelight Service
DESCRIPTION:Candlelight Service – Saturday\, December 21 @ 4:00 p.m. — This is a quiet service to comfort those who are grieving and struggling to find joy during Christmas.
URL:https://stjohnswhitby.ca/event/candlelight-service/
LOCATION:St John’s Anglican Church\, 150 Victoria Street East\, Whitby\, Ontario\, L1N 9L8\, Canada
CATEGORIES:Christmas,Special Service
END:VEVENT
BEGIN:VEVENT
DTSTART;TZID=America/Toronto:20241217T193000
DTEND;TZID=America/Toronto:20241217T203000
DTSTAMP:20260425T103400
CREATED:20241130T210106Z
LAST-MODIFIED:20241130T210106Z
UID:1571-1734463800-1734467400@stjohnswhitby.ca
SUMMARY:Weekly Bible Study – W.E.B.S.
DESCRIPTION:Weekly Bible Study – W.E.B.S. (Wednesday Evening Bible Study) – For the rest of the year\, our Wednesday Evening Bible Study (WEBS) will take place on TUESDAY evening to join Advent Teaching Series – Dec 3\, 10\, & 17 @ 7:30 pm – 8:30 pm which is being led by our Bishops online. We will have a watch-party in the church\, with a time for discussion and meditation\, but you may participate from home if you choose to do so. Contact Rev. Di if you are interested by email at priest-stjohnwhitby@toronto.anglican.ca or by phone at (647) 405-6301 For those who would like to join from home\, here is the link for you to go register. Scroll down and refer to Advent for Everyone:  https://www.toronto.anglican.ca/diocesan-life/season-of-spiritual-renewal/season-of-spiritual-renewal-workshops/ \nPrintable list of workshops – https://www.toronto.anglican.ca/wp-content/uploads/2024/11/Winter-Workshops-Overview.pdf
URL:https://stjohnswhitby.ca/event/weekly-bible-study-w-e-b-s-2/
LOCATION:St John’s Anglican Church\, 150 Victoria Street East\, Whitby\, Ontario\, L1N 9L8\, Canada
CATEGORIES:Bible Study,Christmas
END:VEVENT
BEGIN:VEVENT
DTSTART;TZID=America/Toronto:20241217T140000
DTEND;TZID=America/Toronto:20241217T153000
DTSTAMP:20260425T103400
CREATED:20241130T193131Z
LAST-MODIFIED:20241130T195444Z
UID:1516-1734444000-1734449400@stjohnswhitby.ca
SUMMARY:Monthly Ecumenical Service at Glen Hill Terrace
DESCRIPTION:Our Monthly Ecumenical Service at Glen Hill Terrace will be on Sunday\, December 17 @ 2 p.m. — a team of volunteers will visit the seniors’ residence to share the spirit of Christmas. Contact Rev Di if you’d like to join. hk.diane.lee@gmail.com
URL:https://stjohnswhitby.ca/event/monthly-ecumenical-service-at-glen-hill-terrace/
LOCATION:Glen Hill Terrace\, 80 Glen Hill Dr S\, Whitby\, ON\, Ontario\, L1N 0M7\, Canada
CATEGORIES:Christmas,Community Event,Special Service
END:VEVENT
BEGIN:VEVENT
DTSTART;TZID=America/Toronto:20241216T100000
DTEND;TZID=America/Toronto:20241216T120000
DTSTAMP:20260425T103400
CREATED:20241130T211308Z
LAST-MODIFIED:20241130T211308Z
UID:1577-1734343200-1734350400@stjohnswhitby.ca
SUMMARY:Crochet – Knit – Hobby Group –  Come learn or help with a new craft.
DESCRIPTION:Crochet – Knit – Hobby group –  Come to learn or help with a new craft.\nWe meet every Monday at 10:00 am in the parish hall downstairs\, (entrance on the east side of the building).\nAll skill levels are welcome.
URL:https://stjohnswhitby.ca/event/crochet-knit-hobby-group-come-learn-or-help-with-a-new-craft-4/
LOCATION:St John’s Anglican Church\, 150 Victoria Street East\, Whitby\, Ontario\, L1N 9L8\, Canada
CATEGORIES:Social Event
END:VEVENT
BEGIN:VEVENT
DTSTART;TZID=America/Toronto:20241213T100000
DTEND;TZID=America/Toronto:20241213T110000
DTSTAMP:20260425T103400
CREATED:20241130T204830Z
LAST-MODIFIED:20241130T204914Z
UID:1562-1734084000-1734087600@stjohnswhitby.ca
SUMMARY:Weekly Bible Study
DESCRIPTION:Weekly Bible Study – Bible Study group – Every Friday at 10 a.m. at the church.\nThis will continue until Dec 13th and take a break over the Christmas season.
URL:https://stjohnswhitby.ca/event/weekly-bible-study-3/
LOCATION:St John’s Anglican Church\, 150 Victoria Street East\, Whitby\, Ontario\, L1N 9L8\, Canada
CATEGORIES:Bible Study
END:VEVENT
BEGIN:VEVENT
DTSTART;TZID=America/Toronto:20241210T193000
DTEND;TZID=America/Toronto:20241210T203000
DTSTAMP:20260425T103400
CREATED:20241130T205227Z
LAST-MODIFIED:20241130T205754Z
UID:1566-1733859000-1733862600@stjohnswhitby.ca
SUMMARY:Weekly Bible Study – W.E.B.S.
DESCRIPTION:Weekly Bible Study – W.E.B.S. (Wednesday Evening Bible Study) – For the rest of the year\, our Wednesday Evening Bible Study (WEBS) will take place on TUESDAY evening to join Advent Teaching Series – Dec 3\, 10\, & 17 @ 7:30 pm – 8:30 pm which is being led by our Bishops online. We will have a watch-party in the church\, with a time for discussion and meditation\, but you may participate from home if you choose to do so. Contact Rev. Di if you are interested by email at priest-stjohnwhitby@toronto.anglican.ca or by phone at (647) 405-6301 For those who would like to join from home\, here is the link for you to go register. Scroll down and refer to Advent for Everyone:  https://www.toronto.anglican.ca/diocesan-life/season-of-spiritual-renewal/season-of-spiritual-renewal-workshops/ \nPrintable list of workshops – https://www.toronto.anglican.ca/wp-content/uploads/2024/11/Winter-Workshops-Overview.pdf
URL:https://stjohnswhitby.ca/event/weekly-bible-study-w-e-b-s/
LOCATION:St John’s Anglican Church\, 150 Victoria Street East\, Whitby\, Ontario\, L1N 9L8\, Canada
CATEGORIES:Bible Study,Christmas
END:VEVENT
BEGIN:VEVENT
DTSTART;TZID=America/Toronto:20241209T100000
DTEND;TZID=America/Toronto:20241209T120000
DTSTAMP:20260425T103400
CREATED:20241130T210758Z
LAST-MODIFIED:20241130T210935Z
UID:1575-1733738400-1733745600@stjohnswhitby.ca
SUMMARY:Crochet – Knit – Hobby Group –  Come learn or help with a new craft.
DESCRIPTION:Crochet – Knit – Hobby group –  Come to learn or help with a new craft.\nWe meet every Monday at 10:00 am in the parish hall downstairs\, (entrance on the east side of the building).\nAll skill levels are welcome.
URL:https://stjohnswhitby.ca/event/crochet-knit-hobby-group-come-learn-or-help-with-a-new-craft-3/
LOCATION:St John’s Anglican Church\, 150 Victoria Street East\, Whitby\, Ontario\, L1N 9L8\, Canada
CATEGORIES:Social Event
END:VEVENT
BEGIN:VEVENT
DTSTART;TZID=America/Toronto:20241206T100000
DTEND;TZID=America/Toronto:20241206T110000
DTSTAMP:20260425T103400
CREATED:20241130T204454Z
LAST-MODIFIED:20241130T204528Z
UID:1560-1733479200-1733482800@stjohnswhitby.ca
SUMMARY:Weekly Bible Study
DESCRIPTION:Weekly Bible Study – Bible Study group – Every Friday at 10 a.m. at the church.\nThis will continue until Dec 13th and take a break over the Christmas season.
URL:https://stjohnswhitby.ca/event/weekly-bible-study-2/
LOCATION:St John’s Anglican Church\, 150 Victoria Street East\, Whitby\, Ontario\, L1N 9L8\, Canada
CATEGORIES:Bible Study
END:VEVENT
BEGIN:VEVENT
DTSTART;TZID=America/Toronto:20241203T073000
DTEND;TZID=America/Toronto:20241203T203000
DTSTAMP:20260425T103400
CREATED:20241130T202659Z
LAST-MODIFIED:20241130T205858Z
UID:1547-1733211000-1733257800@stjohnswhitby.ca
SUMMARY:Weekly Bible Study – W.E.B.S.
DESCRIPTION:Weekly Bible Study – W.E.B.S. (Wednesday Evening Bible Study) – For the rest of the year\, our Wednesday Evening Bible Study (WEBS) will take place on TUESDAY evening to join Advent Teaching Series – Dec 3\, 10\, & 17 @ 7:30 pm – 8:30 pm which is being led by our Bishops online. We will have a watch-party in the church\, with a time for discussion and meditation\, but you may participate from home if you choose to do so. Contact Rev. Di if you are interested by email at priest-stjohnwhitby@toronto.anglican.ca or by phone at (647) 405-6301 For those who would like to join from home\, here is the link for you to go register. Scroll down and refer to Advent for Everyone:  https://www.toronto.anglican.ca/diocesan-life/season-of-spiritual-renewal/season-of-spiritual-renewal-workshops/ \nPrintable list of workshops – https://www.toronto.anglican.ca/wp-content/uploads/2024/11/Winter-Workshops-Overview.pdf
URL:https://stjohnswhitby.ca/event/weekly-bible-study/
LOCATION:St John’s Anglican Church\, 150 Victoria Street East\, Whitby\, Ontario\, L1N 9L8\, Canada
CATEGORIES:Bible Study,Christmas
END:VEVENT
BEGIN:VEVENT
DTSTART;TZID=America/Toronto:20241202T100000
DTEND;TZID=America/Toronto:20241202T120000
DTSTAMP:20260425T103400
CREATED:20241130T210606Z
LAST-MODIFIED:20241130T210606Z
UID:1573-1733133600-1733140800@stjohnswhitby.ca
SUMMARY:Crochet – Knit – Hobby Group –  Come learn or help with a new craft.
DESCRIPTION:Crochet – Knit – Hobby group –  Come to learn or help with a new craft.\nWe meet every Monday at 10:00 am in the parish hall downstairs\, (entrance on the east side of the building).\nAll skill levels are welcome.
URL:https://stjohnswhitby.ca/event/crochet-knit-hobby-group-come-learn-or-help-with-a-new-craft-2/
LOCATION:St John’s Anglican Church\, 150 Victoria Street East\, Whitby\, Ontario\, L1N 9L8\, Canada
CATEGORIES:Social Event
END:VEVENT
BEGIN:VEVENT
DTSTART;TZID=America/Toronto:20241130T190000
DTEND;TZID=America/Toronto:20241130T210000
DTSTAMP:20260425T103400
CREATED:20241121T215306Z
LAST-MODIFIED:20241130T193959Z
UID:1501-1732993200-1733000400@stjohnswhitby.ca
SUMMARY:Christmas Music Through the Ages
DESCRIPTION:Christmas Music Evening – Ever wonder where your favorite Christmas music comes from? Join us Nov. 30 for a history of Christmas music. The concert features St. John’s Music Director and multi-instrumentalist Doug Watson\, with context provided by Peter Haggert. Concert price $20.  Join us for beautiful music in a beautiful setting to start your Christmas season.
URL:https://stjohnswhitby.ca/event/christmas-music-through-the-ages/
LOCATION:St John’s Anglican Church\, 150 Victoria Street East\, Whitby\, Ontario\, L1N 9L8\, Canada
CATEGORIES:Community Event,Fundraiser,Social Event
ATTACH;FMTTYPE=image/png:https://stjohnswhitby.ca/wp-content/uploads/2024/11/Christian-Music-Through-the-Ages-2024-e1732226984588.png
END:VEVENT
BEGIN:VEVENT
DTSTART;TZID=America/Toronto:20241022T100000
DTEND;TZID=America/Toronto:20241022T120000
DTSTAMP:20260425T103400
CREATED:20241009T170420Z
LAST-MODIFIED:20241009T170423Z
UID:1407-1729591200-1729598400@stjohnswhitby.ca
SUMMARY:Crochet - Knit - Hobby Group
DESCRIPTION:Crochet – Knit – Hobby group –  Come to learn or help with a new craft.We meet every Monday at 10:00 am in the parish hall downstairs\, (entrance on the east side of the building).All skill levels are welcome.
URL:https://stjohnswhitby.ca/event/crochet-knit-hobby-group/
CATEGORIES:Community Event,Social Event
END:VEVENT
BEGIN:VEVENT
DTSTART;TZID=America/Toronto:20241020T120000
DTEND;TZID=America/Toronto:20241020T140000
DTSTAMP:20260425T103400
CREATED:20241009T160729Z
LAST-MODIFIED:20241010T143241Z
UID:1380-1729425600-1729432800@stjohnswhitby.ca
SUMMARY:Harvest Lunch
DESCRIPTION:Harvest Lunch –  “We are having a Harvest Meal for our parish family on Sunday\, October 20th at noon.  The cost is $20 per person. This is a fundraiser for Outreach and Hospitality projects.” All are welcome. \n 
URL:https://stjohnswhitby.ca/event/harvest-lunch/
LOCATION:St John’s Anglican Church\, 150 Victoria Street East\, Whitby\, Ontario\, L1N 9L8\, Canada
CATEGORIES:Fundraiser,Social Event
ATTACH;FMTTYPE=image/png:https://stjohnswhitby.ca/wp-content/uploads/2024/10/Harvest-lunch-graphic.png
END:VEVENT
BEGIN:VEVENT
DTSTART;TZID=America/Toronto:20241015T100000
DTEND;TZID=America/Toronto:20241015T120000
DTSTAMP:20260425T103400
CREATED:20241009T162925Z
LAST-MODIFIED:20241009T170010Z
UID:1388-1728986400-1728993600@stjohnswhitby.ca
SUMMARY:Crochet - Knit - Hobby Group -  Come learn or help with a new craft.
DESCRIPTION:Crochet – Knit – Hobby group –  Come to learn or help with a new craft.We meet every Monday at 10:00 am in the parish hall downstairs\, (entrance on the east side of the building).All skill levels are welcome.
URL:https://stjohnswhitby.ca/event/crochet-knit-hobby-group-come-learn-or-help-with-a-new-craft/
LOCATION:St John’s Anglican Church\, 150 Victoria Street East\, Whitby\, Ontario\, L1N 9L8\, Canada
CATEGORIES:Community Event,Social Event
END:VEVENT
BEGIN:VEVENT
DTSTART;TZID=America/Toronto:20241012T100000
DTEND;TZID=America/Toronto:20241012T113000
DTSTAMP:20260425T103400
CREATED:20241009T164654Z
LAST-MODIFIED:20241009T171919Z
UID:1396-1728727200-1728732600@stjohnswhitby.ca
SUMMARY:Weekly Bible Study - Every Friday at 10 a.m. at the church
DESCRIPTION:Weekly Bible Study – Bible Study group – Every Friday at 10 a.m. at the church.
URL:https://stjohnswhitby.ca/event/weekly-bible-study-every-friday-at-10-a-m-at-the-church/
LOCATION:St John’s Anglican Church\, 150 Victoria Street East\, Whitby\, Ontario\, L1N 9L8\, Canada
CATEGORIES:Bible Study
ATTACH;FMTTYPE=image/jpeg:https://stjohnswhitby.ca/wp-content/uploads/2024/09/Theres-always-room-for-one-more-at-Bible-study.-Theyd-love-if-youd-join-them-1-scaled.jpg
ORGANIZER;CN="Rev. Diane Lee":MAILTO:priest-stjohnwhitby@toronto.anglican.ca
END:VEVENT
BEGIN:VEVENT
DTSTART;TZID=America/Toronto:20241009T190000
DTEND;TZID=America/Toronto:20241009T203000
DTSTAMP:20260425T103400
CREATED:20241009T163912Z
LAST-MODIFIED:20241009T164827Z
UID:1392-1728500400-1728505800@stjohnswhitby.ca
SUMMARY:Wednesday Evening Bible Study - W.E.B.S.
DESCRIPTION:W.E.B.S. (Wednesday Evening Bible Study) – Every Wednesday evening from 7:00 to 8:30\, at the church.\nContact Rev. Di if you are interested by email at priest-stjohnwhitby@toronto.anglican.ca or by phone at (647) 405-6301
URL:https://stjohnswhitby.ca/event/wednesday-evening-bible-study-w-e-b-s/
LOCATION:St John’s Anglican Church\, 150 Victoria Street East\, Whitby\, Ontario\, L1N 9L8\, Canada
CATEGORIES:Bible Study
ORGANIZER;CN="Rev. Diane Lee":MAILTO:priest-stjohnwhitby@toronto.anglican.ca
END:VEVENT
BEGIN:VEVENT
DTSTART;TZID=America/Toronto:20240622T190000
DTEND;TZID=America/Toronto:20240622T210000
DTSTAMP:20260425T103400
CREATED:20241009T161325Z
LAST-MODIFIED:20241009T161325Z
UID:1382-1719082800-1719090000@stjohnswhitby.ca
SUMMARY:Christian Music Through the Ages
DESCRIPTION:Christian Music Through the Ages
URL:https://stjohnswhitby.ca/event/christian-music-through-the-ages/
LOCATION:St John’s Anglican Church\, 150 Victoria Street East\, Whitby\, Ontario\, L1N 9L8\, Canada
CATEGORIES:Community Event,Fundraiser
END:VEVENT
END:VCALENDAR