BEGIN:VCALENDAR
VERSION:2.0
PRODID:-//St Johns Anglican Whitby - ECPv6.15.20//NONSGML v1.0//EN
CALSCALE:GREGORIAN
METHOD:PUBLISH
X-ORIGINAL-URL:https://stjohnswhitby.ca
X-WR-CALDESC:Events for St Johns Anglican Whitby
REFRESH-INTERVAL;VALUE=DURATION:PT1H
X-Robots-Tag:noindex
X-PUBLISHED-TTL:PT1H
BEGIN:VTIMEZONE
TZID:America/Toronto
BEGIN:DAYLIGHT
TZOFFSETFROM:-0500
TZOFFSETTO:-0400
TZNAME:EDT
DTSTART:20250309T070000
END:DAYLIGHT
BEGIN:STANDARD
TZOFFSETFROM:-0400
TZOFFSETTO:-0500
TZNAME:EST
DTSTART:20251102T060000
END:STANDARD
BEGIN:DAYLIGHT
TZOFFSETFROM:-0500
TZOFFSETTO:-0400
TZNAME:EDT
DTSTART:20260308T070000
END:DAYLIGHT
BEGIN:STANDARD
TZOFFSETFROM:-0400
TZOFFSETTO:-0500
TZNAME:EST
DTSTART:20261101T060000
END:STANDARD
BEGIN:DAYLIGHT
TZOFFSETFROM:-0500
TZOFFSETTO:-0400
TZNAME:EDT
DTSTART:20270314T070000
END:DAYLIGHT
BEGIN:STANDARD
TZOFFSETFROM:-0400
TZOFFSETTO:-0500
TZNAME:EST
DTSTART:20271107T060000
END:STANDARD
END:VTIMEZONE
BEGIN:VEVENT
DTSTART;TZID=America/Toronto:20260325T190000
DTEND;TZID=America/Toronto:20260325T200000
DTSTAMP:20260425T120829
CREATED:20260217T170635Z
LAST-MODIFIED:20260217T170746Z
UID:2646-1774465200-1774468800@stjohnswhitby.ca
SUMMARY:ONLINE - Evening Prayer - followed by Bible study - Week 5: The Women & the Emmaus Road Travellers
DESCRIPTION:During this holy season of Lent\, you are warmly invited to join us on Zoom for a weekly Wednesday service of Evening Prayer\, followed by an optional Bible Study for those who wish to stay. These Evening Prayer Services start at 7pm. \nThis year\, our Lenten journey will be shaped by the voices and stories of people who stood near the events of Christ’s Passion and Resurrection—some faithful\, some fearful\, some flawed\, all profoundly human. \nEach week\, we will reflect on one character and consider what their experience might reveal about our own walk with Christ. \nWeekly Themes \n\nFebruary 25 @7pm – Malchus\n\nA servant caught in the chaos of Jesus’ arrest\, whose encounter with Christ becomes unexpectedly healing. \n\nMarch 4 @ 7 pm – Judas Iscariot\n\nA disciple whose choices challenge us to wrestle with betrayal\, regret\, and the mystery of grace. \n\nMarch 11 @7pm – The Centurion\n\nA Roman soldier whose moment of recognition at the cross still echoes through Christian confession. \n\nMarch 18 @ 7 pm – Joseph of Arimathea\n\nA quiet\, courageous figure who steps forward when hope seems lost. \n\nMarch 25 @ 7pm – The Women & the Emmaus Road Travellers\n\nWitnesses of Resurrection—those who ran to the tomb\, those who walked the long road\, and those whose hearts burned within them. \n  \nFormat \n\nEvening Prayer (approx. 20–25 minutes)\n\nA simple\, peaceful liturgy to end the day. \n\nOptional Bible Study\n\nA time for conversation\, questions\, and deeper reflection on the week’s character. \n  \nWeekly:  https://us02web.zoom.us/meeting/tZMkdOCsqj8vGdRilw3-elGm_tMs4UvadBGY/ics?icsToken=DMJzSHyNmJ5X2Ts4igAALAAAAJ3og_O4yXEoIJPb1LQdEOslsQK8JiUTbUJ-1RawEWFabsPgL1DoxaY5V2SHQudw1Kn6g6aaF03HYvScODAwMDAwMQ&meetingMasterEventId=-_a6XyHfS82WDcqLW8g0iA\nJoin Zoom Meeting\nhttps://us02web.zoom.us/j/87939444530?pwd=L4xA1c76ArZKbgg5uoX1avzgC92mXP.1\n\nMeeting ID: 879 3944 4530\nPasscode: 057250\nThis link will remain the same for all five sessions.
URL:https://stjohnswhitby.ca/event/online-evening-prayer-followed-by-bible-study-week-5-the-women-the-emmaus-road-travellers/
LOCATION:ONLINE\, Canada
CATEGORIES:Bible Study,Lent,ONLINE,Prayer,Special Service
ORGANIZER;CN="Rev. Nicole Critch":MAILTO:stjohnsanglicanwhitby@gmail.com
END:VEVENT
BEGIN:VEVENT
DTSTART;TZID=America/Toronto:20260329T100000
DTEND;TZID=America/Toronto:20260329T110000
DTSTAMP:20260425T120829
CREATED:20260217T181018Z
LAST-MODIFIED:20260217T181018Z
UID:2655-1774778400-1774782000@stjohnswhitby.ca
SUMMARY:Palm Sunday
DESCRIPTION:
URL:https://stjohnswhitby.ca/event/palm-sunday/
LOCATION:St John’s Anglican Church\, 150 Victoria Street East\, Whitby\, Ontario\, L1N 9L8\, Canada
CATEGORIES:Lent,Special Service
ORGANIZER;CN="Rev. Nicole Critch":MAILTO:stjohnsanglicanwhitby@gmail.com
END:VEVENT
BEGIN:VEVENT
DTSTART;TZID=America/Toronto:20260331T190000
DTEND;TZID=America/Toronto:20260331T200000
DTSTAMP:20260425T120829
CREATED:20260217T181432Z
LAST-MODIFIED:20260217T181432Z
UID:2657-1774983600-1774987200@stjohnswhitby.ca
SUMMARY:Stations of the Cross
DESCRIPTION:
URL:https://stjohnswhitby.ca/event/stations-of-the-cross/
LOCATION:St John’s Anglican Church\, 150 Victoria Street East\, Whitby\, Ontario\, L1N 9L8\, Canada
ORGANIZER;CN="Rev. Nicole Critch":MAILTO:stjohnsanglicanwhitby@gmail.com
END:VEVENT
BEGIN:VEVENT
DTSTART;TZID=America/Toronto:20260401T190000
DTEND;TZID=America/Toronto:20260401T200000
DTSTAMP:20260425T120829
CREATED:20260217T184000Z
LAST-MODIFIED:20260217T184750Z
UID:2675-1775070000-1775073600@stjohnswhitby.ca
SUMMARY:Service of Tenebrae
DESCRIPTION:
URL:https://stjohnswhitby.ca/event/service-of-tenebrae/
LOCATION:St John’s Anglican Church\, 150 Victoria Street East\, Whitby\, Ontario\, L1N 9L8\, Canada
CATEGORIES:Easter,Lent,Special Service
ORGANIZER;CN="Rev. Nicole Critch":MAILTO:stjohnsanglicanwhitby@gmail.com
END:VEVENT
BEGIN:VEVENT
DTSTART;TZID=America/Toronto:20260402T100000
DTEND;TZID=America/Toronto:20260402T110000
DTSTAMP:20260425T120829
CREATED:20260217T183538Z
LAST-MODIFIED:20260217T183538Z
UID:2670-1775124000-1775127600@stjohnswhitby.ca
SUMMARY:Maunday Thursday - stripping of the altar
DESCRIPTION:
URL:https://stjohnswhitby.ca/event/maunday-thursday-stripping-of-the-altar/
LOCATION:St John’s Anglican Church\, 150 Victoria Street East\, Whitby\, Ontario\, L1N 9L8\, Canada
ORGANIZER;CN="Rev. Nicole Critch":MAILTO:stjohnsanglicanwhitby@gmail.com
END:VEVENT
BEGIN:VEVENT
DTSTART;TZID=America/Toronto:20260403T120000
DTEND;TZID=America/Toronto:20260403T130000
DTSTAMP:20260425T120829
CREATED:20260217T181737Z
LAST-MODIFIED:20260217T185226Z
UID:2659-1775217600-1775221200@stjohnswhitby.ca
SUMMARY:Good Friday
DESCRIPTION:
URL:https://stjohnswhitby.ca/event/good-friday/
LOCATION:St John’s Anglican Church\, 150 Victoria Street East\, Whitby\, Ontario\, L1N 9L8\, Canada
CATEGORIES:Easter,Lent,Special Service
ORGANIZER;CN="Rev. Nicole Critch":MAILTO:stjohnsanglicanwhitby@gmail.com
END:VEVENT
BEGIN:VEVENT
DTSTART;TZID=America/Toronto:20260405T100000
DTEND;TZID=America/Toronto:20260405T110000
DTSTAMP:20260425T120829
CREATED:20260217T180017Z
LAST-MODIFIED:20260217T185050Z
UID:2649-1775383200-1775386800@stjohnswhitby.ca
SUMMARY:Easter Sunday
DESCRIPTION:
URL:https://stjohnswhitby.ca/event/easter-sunday/
LOCATION:St John’s Anglican Church\, 150 Victoria Street East\, Whitby\, Ontario\, L1N 9L8\, Canada
ORGANIZER;CN="Rev. Nicole Critch":MAILTO:stjohnsanglicanwhitby@gmail.com
END:VEVENT
BEGIN:VEVENT
DTSTART;TZID=America/Toronto:20261004T140000
DTEND;TZID=America/Toronto:20261004T150000
DTSTAMP:20260425T120829
CREATED:20251104T031026Z
LAST-MODIFIED:20251104T032812Z
UID:2145-1791122400-1791126000@stjohnswhitby.ca
SUMMARY:Blessing of the Animals
DESCRIPTION:Blessing of the Animals\n\n\nJoin us for a heartwarming community event!\nAll pets and their loving owners are warmly invited to our special blessing service at St. John’s Anglican church.\nBring your furry\, feathered\, or scaly friends for a memorable day of joy and gratitude.\nWe look forward to celebrating the bond between you and your pets! \n 
URL:https://stjohnswhitby.ca/event/blessing-of-the-animals-2/
LOCATION:St John’s Anglican Church\, 150 Victoria Street East\, Whitby\, Ontario\, L1N 9L8\, Canada
ORGANIZER;CN="Rev. Nicole Critch":MAILTO:stjohnsanglicanwhitby@gmail.com
END:VEVENT
END:VCALENDAR