BEGIN:VCALENDAR
VERSION:2.0
PRODID:-//St Johns Anglican Whitby - ECPv6.15.20//NONSGML v1.0//EN
CALSCALE:GREGORIAN
METHOD:PUBLISH
X-ORIGINAL-URL:https://stjohnswhitby.ca
X-WR-CALDESC:Events for St Johns Anglican Whitby
REFRESH-INTERVAL;VALUE=DURATION:PT1H
X-Robots-Tag:noindex
X-PUBLISHED-TTL:PT1H
BEGIN:VTIMEZONE
TZID:America/Toronto
BEGIN:DAYLIGHT
TZOFFSETFROM:-0500
TZOFFSETTO:-0400
TZNAME:EDT
DTSTART:20230312T070000
END:DAYLIGHT
BEGIN:STANDARD
TZOFFSETFROM:-0400
TZOFFSETTO:-0500
TZNAME:EST
DTSTART:20231105T060000
END:STANDARD
BEGIN:DAYLIGHT
TZOFFSETFROM:-0500
TZOFFSETTO:-0400
TZNAME:EDT
DTSTART:20240310T070000
END:DAYLIGHT
BEGIN:STANDARD
TZOFFSETFROM:-0400
TZOFFSETTO:-0500
TZNAME:EST
DTSTART:20241103T060000
END:STANDARD
BEGIN:DAYLIGHT
TZOFFSETFROM:-0500
TZOFFSETTO:-0400
TZNAME:EDT
DTSTART:20250309T070000
END:DAYLIGHT
BEGIN:STANDARD
TZOFFSETFROM:-0400
TZOFFSETTO:-0500
TZNAME:EST
DTSTART:20251102T060000
END:STANDARD
END:VTIMEZONE
BEGIN:VEVENT
DTSTART;TZID=America/Toronto:20241221T160000
DTEND;TZID=America/Toronto:20241221T173000
DTSTAMP:20260419T151248
CREATED:20241130T194746Z
LAST-MODIFIED:20241130T195339Z
UID:1530-1734796800-1734802200@stjohnswhitby.ca
SUMMARY:Candlelight Service
DESCRIPTION:Candlelight Service – Saturday\, December 21 @ 4:00 p.m. — This is a quiet service to comfort those who are grieving and struggling to find joy during Christmas.
URL:https://stjohnswhitby.ca/event/candlelight-service/
LOCATION:St John’s Anglican Church\, 150 Victoria Street East\, Whitby\, Ontario\, L1N 9L8\, Canada
CATEGORIES:Christmas,Special Service
END:VEVENT
END:VCALENDAR