BEGIN:VCALENDAR
VERSION:2.0
PRODID:-//St Johns Anglican Whitby - ECPv6.15.20//NONSGML v1.0//EN
CALSCALE:GREGORIAN
METHOD:PUBLISH
X-WR-CALNAME:St Johns Anglican Whitby
X-ORIGINAL-URL:https://stjohnswhitby.ca
X-WR-CALDESC:Events for St Johns Anglican Whitby
REFRESH-INTERVAL;VALUE=DURATION:PT1H
X-Robots-Tag:noindex
X-PUBLISHED-TTL:PT1H
BEGIN:VTIMEZONE
TZID:America/Toronto
BEGIN:DAYLIGHT
TZOFFSETFROM:-0500
TZOFFSETTO:-0400
TZNAME:EDT
DTSTART:20250309T070000
END:DAYLIGHT
BEGIN:STANDARD
TZOFFSETFROM:-0400
TZOFFSETTO:-0500
TZNAME:EST
DTSTART:20251102T060000
END:STANDARD
BEGIN:DAYLIGHT
TZOFFSETFROM:-0500
TZOFFSETTO:-0400
TZNAME:EDT
DTSTART:20260308T070000
END:DAYLIGHT
BEGIN:STANDARD
TZOFFSETFROM:-0400
TZOFFSETTO:-0500
TZNAME:EST
DTSTART:20261101T060000
END:STANDARD
BEGIN:DAYLIGHT
TZOFFSETFROM:-0500
TZOFFSETTO:-0400
TZNAME:EDT
DTSTART:20270314T070000
END:DAYLIGHT
BEGIN:STANDARD
TZOFFSETFROM:-0400
TZOFFSETTO:-0500
TZNAME:EST
DTSTART:20271107T060000
END:STANDARD
END:VTIMEZONE
BEGIN:VEVENT
DTSTART;TZID=America/Toronto:20260222T190000
DTEND;TZID=America/Toronto:20260222T210000
DTSTAMP:20260420T031347
CREATED:20260212T200027Z
LAST-MODIFIED:20260217T180730Z
UID:2623-1771786800-1771794000@stjohnswhitby.ca
SUMMARY:Diocese Lenten Bible Study - ONLINE
DESCRIPTION:Join Bible Remixed for a free online Lent course\, “The Way of the Cross and a Crucified People\,” to be held Sunday nights from Feb. 22 to March 29. What happens if we read Jesus’ walk to the cross in light of current realities? Weaving together scriptural story\, Palestinian liturgy and Lenten self-reflection\, this journey to the cross will deeply ground us in the story of Jesus’ passion as seen in today’s world. This is a free study\, funded by the Diocese of Toronto. It will be led by Dr. Sylvia Keesmaat\, and Bishop Andrew Asbil will join the course every second week. To register\, visit the Bible Remixed website. \nThis study is for anyone who seeks a deeper understanding of the Bible and its relation to contemporary life. All are welcome\, regardless of denominational or religious affiliation. No prior knowledge of the Bible is necessary. \nEach session will be recorded and the link will be sent out to all participants. Registrants can also follow the entire study through the recordings. \nThere are no assignments and no required reading for this study\, although suggestions for further reading will be made as the study progresses. \nREGISTER HERE: https://bibleremixed.ca/palestine-lent-course
URL:https://stjohnswhitby.ca/event/lent-bible-study-online/
LOCATION:ONLINE\, Canada
CATEGORIES:Bible Study
ATTACH;FMTTYPE=image/webp:https://stjohnswhitby.ca/wp-content/uploads/2026/02/Palestine-Lent-Course-Poster._1.jpeg.webp
ORGANIZER;CN="The Diocese of Toronto":MAILTO:info@toronto.anglican.ca
END:VEVENT
END:VCALENDAR